BEGIN:VCALENDAR
VERSION:2.0
PRODID:-//Plone.org//NONSGML plone.app.event//EN
X-WR-TIMEZONE:Pacific/Auckland
BEGIN:VEVENT
SUMMARY:November Novelty
DTSTART;VALUE=DATE-TIME:20131102T213000Z
DTEND;VALUE=DATE-TIME:20131103T033000Z
DTSTAMP;VALUE=DATE-TIME:20260425T061039Z
UID:5df070e3a86645ef88b4b20d916a96e0
CATEGORIES:Monthly Run
CONTACT:Mel Peters\, 03 337 4144\, petersmg@ihug.co.nz
CREATED;VALUE=DATE-TIME:20130804T044111Z
DESCRIPTION:First Sunday of the month run from the Classic Motoring Societ
 y of NZ Inc.
LAST-MODIFIED;VALUE=DATE-TIME:20131024T221340Z
LOCATION:Christchurch
URL:https://www.cmsnz.org.nz/events/november-novelty
END:VEVENT
END:VCALENDAR
