BEGIN:VCALENDAR
VERSION:2.0
PRODID:-//Plone.org//NONSGML plone.app.event//EN
X-WR-TIMEZONE:Pacific/Auckland
BEGIN:VEVENT
SUMMARY:Navigating November 2010
DTSTART;VALUE=DATE-TIME:20101106T213000Z
DTEND;VALUE=DATE-TIME:20101107T030000Z
DTSTAMP;VALUE=DATE-TIME:20260425T044317Z
UID:dd87a365b685d99e77317693e31d4660
CATEGORIES:Monthly Run
CONTACT:Graeme Sharp\, sharpish@clear.net.nz
CREATED;VALUE=DATE-TIME:20100727T231048Z
DESCRIPTION:Ever wondered what it would be like to enter car trials? This 
 run is your chance to dip your toes in the waters of trialling without it 
 being too scary!
LAST-MODIFIED;VALUE=DATE-TIME:20101104T234023Z
LOCATION:Christchurch
URL:https://www.cmsnz.org.nz/events/november-2010-day-run
END:VEVENT
END:VCALENDAR
