BEGIN:VCALENDAR
VERSION:2.0
PRODID:-//Plone.org//NONSGML plone.app.event//EN
X-WR-TIMEZONE:Pacific/Auckland
BEGIN:VEVENT
SUMMARY:Notice of ANNUAL GENERAL MEETING
DTSTART;TZID=Pacific/Auckland;VALUE=DATE-TIME:20170521T113000
DTEND;TZID=Pacific/Auckland;VALUE=DATE-TIME:20170521T130000
DTSTAMP;VALUE=DATE-TIME:20260425T011830Z
UID:2fc3d5332031459b9027c697cf5c0f3f
ATTENDEE;CN="Everyone welcome";ROLE=REQ-PARTICIPANT:Everyone welcome
CREATED;VALUE=DATE-TIME:20170313T225249Z
DESCRIPTION:The Annual general meeting will be held on Sunday May 21st
LAST-MODIFIED;VALUE=DATE-TIME:20170320T225713Z
LOCATION:Cafe at The Rangiora Showgrounds.
URL:https://www.cmsnz.org.nz/events/notice-of-annual-general-meeting
END:VEVENT
BEGIN:VTIMEZONE
TZID:Pacific/Auckland
X-LIC-LOCATION:Pacific/Auckland
BEGIN:STANDARD
DTSTART;VALUE=DATE-TIME:20170402T020000
TZNAME:NZST
TZOFFSETFROM:+1300
TZOFFSETTO:+1200
END:STANDARD
END:VTIMEZONE
END:VCALENDAR
