BEGIN:VCALENDAR
VERSION:2.0
PRODID:-//Plone.org//NONSGML plone.app.event//EN
X-WR-TIMEZONE:Pacific/Auckland
BEGIN:VEVENT
SUMMARY:Nostalgia Ramble 2010
DTSTART;VALUE=DATE-TIME:20100501T223000Z
DTEND;VALUE=DATE-TIME:20100502T040000Z
DTSTAMP;VALUE=DATE-TIME:20260421T234824Z
UID:57c00e893e8a847fe97c3849c6899a36
CATEGORIES:Monthly Run
CREATED;VALUE=DATE-TIME:20100317T231824Z
DESCRIPTION:A tour of some of Christchurch's landmarks that have special m
 eanings for us!
LAST-MODIFIED;VALUE=DATE-TIME:20100331T231852Z
LOCATION:Christchurch
URL:https://www.cmsnz.org.nz/events/nostalgia-ramble-2010
END:VEVENT
END:VCALENDAR
