BEGIN:VCALENDAR
VERSION:2.0
PRODID:-//Plone.org//NONSGML plone.app.event//EN
X-WR-TIMEZONE:Pacific/Auckland
BEGIN:VEVENT
SUMMARY:Nosing into November 2012
DTSTART;VALUE=DATE-TIME:20121103T213000Z
DTEND;VALUE=DATE-TIME:20121104T030000Z
DTSTAMP;VALUE=DATE-TIME:20260425T030259Z
UID:149614b671984afbbcd85fe580203fc0
CATEGORIES:Monthly Run
CREATED;VALUE=DATE-TIME:20120805T093329Z
DESCRIPTION:Another of the Classic Motoring Society's regular monthly runs
 . Seeing as its still spring\, we're off to visit flowering rhododendrons 
 and then we'll eat cake.
LAST-MODIFIED;VALUE=DATE-TIME:20121002T035912Z
LOCATION:Christchurch & Canterbury
URL:https://www.cmsnz.org.nz/events/nosing-into-november-2012
END:VEVENT
END:VCALENDAR
