BEGIN:VCALENDAR
VERSION:2.0
PRODID:-//Plone.org//NONSGML plone.app.event//EN
X-WR-TIMEZONE:Pacific/Auckland
BEGIN:VEVENT
SUMMARY:Nosing Around in November 2016
DTSTART;VALUE=DATE-TIME:20161105T210000Z
DTEND;VALUE=DATE-TIME:20161106T030000Z
DTSTAMP;VALUE=DATE-TIME:20260425T005404Z
UID:6ad8803b27eb408c93ddb6af1f0755d7
CATEGORIES:Monthly Run
CREATED;VALUE=DATE-TIME:20160325T030734Z
DESCRIPTION:Its November - must be time for the next first Sunday of the m
 onth day run from The Classic Motoring Society
LAST-MODIFIED;VALUE=DATE-TIME:20160325T030747Z
LOCATION:Christchurch
URL:https://www.cmsnz.org.nz/events/nosing-around-in-november-2016
END:VEVENT
END:VCALENDAR
