BEGIN:VCALENDAR
VERSION:2.0
PRODID:-//Plone.org//NONSGML plone.app.event//EN
X-WR-TIMEZONE:Pacific/Auckland
BEGIN:VEVENT
SUMMARY:North Canterbury Tour 
DTSTART;VALUE=DATE-TIME:20170319T090000Z
DTEND;VALUE=DATE-TIME:20170319T103000Z
DTSTAMP;VALUE=DATE-TIME:20260425T005415Z
UID:9af0c08e727f4ab4bc69b99ed4ff20f4
ATTENDEE;CN="Everyone welcome";ROLE=REQ-PARTICIPANT:Everyone welcome
CONTACT:Trevor & Lorraine Stanley
CREATED;VALUE=DATE-TIME:20170313T224932Z
DESCRIPTION:Organised by Trevor & Lorraine Stanley. Departs from The Woodl
 ands Café\, Ashworths Beach Road\, Leithfield\, Canterbury
LAST-MODIFIED;VALUE=DATE-TIME:20170313T224942Z
LOCATION:Canterbury
URL:https://www.cmsnz.org.nz/events/north-canterbury-tour
END:VEVENT
END:VCALENDAR
