BEGIN:VCALENDAR
VERSION:2.0
PRODID:-//Plone.org//NONSGML plone.app.event//EN
X-WR-TIMEZONE:Pacific/Auckland
BEGIN:VEVENT
SUMMARY:North Canterbury Classic Tour
DTSTART;VALUE=DATE-TIME:20140329T200000Z
DTEND;VALUE=DATE-TIME:20140330T030000Z
DTSTAMP;VALUE=DATE-TIME:20260421T041608Z
UID:a141e9f13d6d485e98ac618eab28fa87
CREATED;VALUE=DATE-TIME:20140218T060020Z
DESCRIPTION:This day run has been running since 2005. Entry fee $15 per ca
 r. This is NOT a CMSNZ event
LAST-MODIFIED;VALUE=DATE-TIME:20140316T195417Z
LOCATION:North Canterbury
URL:https://www.cmsnz.org.nz/events/north-canterbury-classic-tour-2
END:VEVENT
END:VCALENDAR
