BEGIN:VCALENDAR
VERSION:2.0
PRODID:-//Plone.org//NONSGML plone.app.event//EN
X-WR-TIMEZONE:Pacific/Auckland
BEGIN:VEVENT
SUMMARY:North Canterbury Classic Tour
DTSTART;VALUE=DATE-TIME:20110319T200000Z
DTEND;VALUE=DATE-TIME:20110320T030000Z
DTSTAMP;VALUE=DATE-TIME:20260425T063107Z
UID:7556897321ee85f8295236ff67183ad4
CONTACT:Trevor & Lorraine Stanley\, 03-942 9977\, stancar_nzcc@hotmail.com
CREATED;VALUE=DATE-TIME:20110214T204020Z
LAST-MODIFIED;VALUE=DATE-TIME:20110309T203512Z
URL:https://www.cmsnz.org.nz/events/north-canterbury-classic-tour-1
END:VEVENT
END:VCALENDAR
