BEGIN:VCALENDAR
VERSION:2.0
PRODID:-//Plone.org//NONSGML plone.app.event//EN
X-WR-TIMEZONE:Pacific/Auckland
BEGIN:VEVENT
SUMMARY:New Year Run in January 2015
DTSTART;VALUE=DATE-TIME:20150103T213000Z
DTEND;VALUE=DATE-TIME:20150104T030000Z
DTSTAMP;VALUE=DATE-TIME:20260425T045044Z
UID:2f704cd99c774c0aa959a4e2cdc18d94
CONTACT:Mel & Gill Peters\, 03 337 4144\, petersmg@ihug.co.nz
CREATED;VALUE=DATE-TIME:20141130T205011Z
DESCRIPTION:The CMSNZ is getting stuck in straight away with our regular\,
  first Sunday of the month runs
LAST-MODIFIED;VALUE=DATE-TIME:20141130T205030Z
LOCATION:Christchurch start
URL:https://www.cmsnz.org.nz/events/new-year-run-in-january-2015
END:VEVENT
END:VCALENDAR
