BEGIN:VCALENDAR
VERSION:2.0
PRODID:-//Plone.org//NONSGML plone.app.event//EN
X-WR-TIMEZONE:Pacific/Auckland
BEGIN:VEVENT
SUMMARY:New South Wales Odyssey
DTSTART;VALUE=DATE-TIME:20150914T213000Z
DTEND;VALUE=DATE-TIME:20151020T023000Z
DTSTAMP;VALUE=DATE-TIME:20260425T030722Z
UID:74b9552c79d44874aede872e8b9e3f8d
CONTACT:Graeme Sharp\, 021 395 944\, info@saabclassics.net
CREATED;VALUE=DATE-TIME:20140124T023146Z
DESCRIPTION:Another Classic Motoring Society expedition offshore to Austra
 lia
LAST-MODIFIED;VALUE=DATE-TIME:20140124T023147Z
LOCATION:NSW\, Australia
URL:https://www.cmsnz.org.nz/events/new-south-wales-odyssey
END:VEVENT
END:VCALENDAR
