BEGIN:VCALENDAR
VERSION:2.0
PRODID:-//Plone.org//NONSGML plone.app.event//EN
X-WR-TIMEZONE:Pacific/Auckland
BEGIN:VEVENT
SUMMARY:New South Wales Odyssey
DTSTART;VALUE=DATE-TIME:20150924T220000Z
DTEND;VALUE=DATE-TIME:20151010T030000Z
DTSTAMP;VALUE=DATE-TIME:20260425T045407Z
UID:e45cac4ee28d41dbb72bb0b3515e7097
CATEGORIES:Odyssey
CONTACT:Graeme Sharp\, 03 3278991 or 021 395944\, info@saabclassics.net
CREATED;VALUE=DATE-TIME:20140221T000026Z
DESCRIPTION:The CMSNZ is heading overseas again. We're off to our nearest 
 neighbours again and there's the opportunity to be at Bathurst!
LAST-MODIFIED;VALUE=DATE-TIME:20150304T071440Z
LOCATION:NSW\, Australia
URL:https://www.cmsnz.org.nz/events/new-south-wales-odyssey-1
END:VEVENT
END:VCALENDAR
