BEGIN:VCALENDAR
VERSION:2.0
PRODID:-//Plone.org//NONSGML plone.app.event//EN
X-WR-TIMEZONE:Pacific/Auckland
BEGIN:VEVENT
SUMMARY:Motoring through May 2013
DTSTART;VALUE=DATE-TIME:20130504T223000Z
DTEND;VALUE=DATE-TIME:20130505T040000Z
DTSTAMP;VALUE=DATE-TIME:20260425T044551Z
UID:997ba431a3a24b599634a839790201c4
CATEGORIES:Monthly Run
CREATED;VALUE=DATE-TIME:20130401T063913Z
DESCRIPTION:Motoring through May is one of the CMSNZ's normal\, first Sund
 ay of the month\, day runs
LAST-MODIFIED;VALUE=DATE-TIME:20130401T072128Z
LOCATION:Christchurch
URL:https://www.cmsnz.org.nz/events/motoring-through-may-2013
END:VEVENT
END:VCALENDAR
