BEGIN:VCALENDAR
VERSION:2.0
PRODID:-//Plone.org//NONSGML plone.app.event//EN
X-WR-TIMEZONE:Pacific/Auckland
BEGIN:VEVENT
SUMMARY:Mid Winter Outing
DTSTART;VALUE=DATE-TIME:20070722T011500Z
DTEND;VALUE=DATE-TIME:20070722T050000Z
DTSTAMP;VALUE=DATE-TIME:20260425T024400Z
UID:2646e63ea427127686dd0ba0bc156dc7
CONTACT:Mel Peters\, 03-337 4144
CREATED;VALUE=DATE-TIME:20070508T215543Z
DESCRIPTION:A chance to get out for an afternoon adventure in our classic 
 cars in the depths of winter
LAST-MODIFIED;VALUE=DATE-TIME:20070810T024856Z
LOCATION:Christchurch
URL:https://www.cmsnz.org.nz/events/mid-winter-outing
END:VEVENT
END:VCALENDAR
