BEGIN:VCALENDAR
VERSION:2.0
PRODID:-//Plone.org//NONSGML plone.app.event//EN
X-WR-TIMEZONE:Pacific/Auckland
BEGIN:VEVENT
SUMMARY:Mid-week April outing 2015
DTSTART;VALUE=DATE-TIME:20150415T223000Z
DTEND;VALUE=DATE-TIME:20150416T040000Z
DTSTAMP;VALUE=DATE-TIME:20260425T025825Z
UID:ff06ac7e297d40b5a87e2570a6d98ad4
CONTACT:Jim Milne\, 03 366 3060\, bettabee@clear.net.nz
CREATED;VALUE=DATE-TIME:20150304T070155Z
DESCRIPTION:The Gold Card Cruisers from the Classic Motoring Society are b
 ack in action this month with a mid-month\, mid-week outing on a Thursday
LAST-MODIFIED;VALUE=DATE-TIME:20150304T070254Z
LOCATION:Christchurch
URL:https://www.cmsnz.org.nz/events/mid-week-april-outing-2015
END:VEVENT
END:VCALENDAR
