BEGIN:VCALENDAR
VERSION:2.0
PRODID:-//Plone.org//NONSGML plone.app.event//EN
X-WR-TIMEZONE:Pacific/Auckland
BEGIN:VEVENT
SUMMARY:Mid August Gold Card Cruise 2015
DTSTART;VALUE=DATE-TIME:20150812T223000Z
DTEND;VALUE=DATE-TIME:20150813T033000Z
DTSTAMP;VALUE=DATE-TIME:20260425T005604Z
UID:b6beea7b8e404f88be7b6c341d25e911
CATEGORIES:Gold Card Cruisers
CONTACT:Mel & Gill Peters\, 03 261 9166\, petersmg@snap.net.nz
CREATED;VALUE=DATE-TIME:20150812T051338Z
DESCRIPTION:Good day out in the middle of winter - this is one of the CMSN
 Z's Gold Card Cruises
LAST-MODIFIED;VALUE=DATE-TIME:20150812T052337Z
LOCATION:Christchurch
URL:https://www.cmsnz.org.nz/events/mid-august-gold-card-cruise-2015
END:VEVENT
END:VCALENDAR
