BEGIN:VCALENDAR
VERSION:2.0
PRODID:-//Plone.org//NONSGML plone.app.event//EN
X-WR-TIMEZONE:Pacific/Auckland
BEGIN:VEVENT
SUMMARY:May Meander 2016
DTSTART;VALUE=DATE-TIME:20160430T210000Z
DTEND;VALUE=DATE-TIME:20160501T040000Z
DTSTAMP;VALUE=DATE-TIME:20260425T011058Z
UID:59dc5165495e47f0a180a24f25fb45eb
CATEGORIES:Monthly Run
CONTACT:Mel & Gill Peters\, 021 216 0186\, classicmotoringsocietynzinc@gma
 il.com
CREATED;VALUE=DATE-TIME:20160324T215938Z
DESCRIPTION:The first Sunday of the month\, day run from the Classic Motor
 ing Society
LAST-MODIFIED;VALUE=DATE-TIME:20160430T203416Z
LOCATION:Ashburton
URL:https://www.cmsnz.org.nz/events/may-meander-2016
END:VEVENT
END:VCALENDAR
