BEGIN:VCALENDAR
VERSION:2.0
PRODID:-//Plone.org//NONSGML plone.app.event//EN
X-WR-TIMEZONE:Pacific/Auckland
BEGIN:VEVENT
SUMMARY:May Madness
DTSTART;VALUE=DATE-TIME:20120505T220000Z
DTEND;VALUE=DATE-TIME:20120506T040000Z
DTSTAMP;VALUE=DATE-TIME:20260425T010957Z
UID:9dcf31a300424e28aaa9fdeac6870800
CATEGORIES:Monthly Run
CREATED;VALUE=DATE-TIME:20120321T045534Z
DESCRIPTION:CMSNZ's usual Sunday run\, out and about in the countryside.
LAST-MODIFIED;VALUE=DATE-TIME:20120503T091349Z
LOCATION:Christchurch
URL:https://www.cmsnz.org.nz/events/may-madness
END:VEVENT
END:VCALENDAR
