BEGIN:VCALENDAR
VERSION:2.0
PRODID:-//Plone.org//NONSGML plone.app.event//EN
X-WR-TIMEZONE:Pacific/Auckland
BEGIN:VEVENT
SUMMARY:May 2014 Gold Card Cruisers Run
DTSTART;VALUE=DATE-TIME:20140514T223000Z
DTEND;VALUE=DATE-TIME:20140515T040000Z
DTSTAMP;VALUE=DATE-TIME:20260425T005633Z
UID:be6b6d0e9e3b4440a8f517c4f5a8522a
CATEGORIES:Gold Card Cruisers
CONTACT:Jim Milne\, 027 611 13455\, bettabee@clear.net.nz
CREATED;VALUE=DATE-TIME:20140424T022313Z
DESCRIPTION:Another of our regular monthly outings
LAST-MODIFIED;VALUE=DATE-TIME:20140424T022323Z
URL:https://www.cmsnz.org.nz/events/may-2014-gold-card-cruisers-run
END:VEVENT
END:VCALENDAR
