BEGIN:VCALENDAR
VERSION:2.0
PRODID:-//Plone.org//NONSGML plone.app.event//EN
X-WR-TIMEZONE:Pacific/Auckland
BEGIN:VEVENT
SUMMARY:March Meander
DTSTART;VALUE=DATE-TIME:20110305T213000Z
DTEND;VALUE=DATE-TIME:20110306T030000Z
DTSTAMP;VALUE=DATE-TIME:20260425T011109Z
UID:c9be600eeb8ccb004e5b8a617d1b32e8
CATEGORIES:Monthly Run
CONTACT:S Royds\, 03-341 3141\, info@cmsnz.co.nz
CREATED;VALUE=DATE-TIME:20101129T214217Z
DESCRIPTION:Cancelled
LAST-MODIFIED;VALUE=DATE-TIME:20110303T004224Z
URL:https://www.cmsnz.org.nz/events/march-meander
END:VEVENT
END:VCALENDAR
