BEGIN:VCALENDAR
VERSION:2.0
PRODID:-//Plone.org//NONSGML plone.app.event//EN
X-WR-TIMEZONE:Pacific/Auckland
BEGIN:VEVENT
SUMMARY:March Meander with Gold Card Cruisers 2015
DTSTART;VALUE=DATE-TIME:20150311T213000Z
DTEND;VALUE=DATE-TIME:20150312T030000Z
DTSTAMP;VALUE=DATE-TIME:20260425T030803Z
UID:374598d86dc941208e17a9bebf972f82
CATEGORIES:Gold Card Cruisers
CONTACT:John & Merilyn Gallagher\, 027 426 8052
CREATED;VALUE=DATE-TIME:20150125T221440Z
DESCRIPTION:The Classic Motoring Society invites you to join us on our reg
 ular\, mid-month\, mid-week run.
LAST-MODIFIED;VALUE=DATE-TIME:20150125T221459Z
LOCATION:Christchurch
URL:https://www.cmsnz.org.nz/events/march-meander-with-gold-card-cruisers-
 2015
END:VEVENT
END:VCALENDAR
