BEGIN:VCALENDAR
VERSION:2.0
PRODID:-//Plone.org//NONSGML plone.app.event//EN
X-WR-TIMEZONE:Pacific/Auckland
BEGIN:VEVENT
SUMMARY:March Mayhem
DTSTART;VALUE=DATE-TIME:20120303T213000Z
DTEND;VALUE=DATE-TIME:20120304T030000Z
DTSTAMP;VALUE=DATE-TIME:20260425T011038Z
UID:541a7c6f27f96a796ac68724bb5589bd
CATEGORIES:Monthly Run
CONTACT:Mel Peters\, 03 337 4144\, petersmg@ihug.co.nz
CREATED;VALUE=DATE-TIME:20120113T031855Z
DESCRIPTION:We're not actually planning any mayhem but you can see we're f
 ond of alliteration! Its time for the CMSNZ's monthly classic car run but 
 feel free to bring any classic vehicle.
LAST-MODIFIED;VALUE=DATE-TIME:20120202T205042Z
LOCATION:Christchurch
URL:https://www.cmsnz.org.nz/events/march-mayhem
END:VEVENT
END:VCALENDAR
