BEGIN:VCALENDAR
VERSION:2.0
PRODID:-//Plone.org//NONSGML plone.app.event//EN
X-WR-TIMEZONE:Pacific/Auckland
BEGIN:VEVENT
SUMMARY:March Mayhem 2014
DTSTART;VALUE=DATE-TIME:20140301T210000Z
DTEND;VALUE=DATE-TIME:20140302T030000Z
DTSTAMP;VALUE=DATE-TIME:20260425T030018Z
UID:61b94252daf84cf98252a729332241d2
CATEGORIES:Monthly Run
CREATED;VALUE=DATE-TIME:20140109T090052Z
DESCRIPTION:Regular\, first Sunday of the month run from the Classic Motor
 ing Society of NZ
LAST-MODIFIED;VALUE=DATE-TIME:20140220T215601Z
LOCATION:Christchurch
URL:https://www.cmsnz.org.nz/events/march-mayhem-2014
END:VEVENT
END:VCALENDAR
