BEGIN:VCALENDAR
VERSION:2.0
PRODID:-//Plone.org//NONSGML plone.app.event//EN
X-WR-TIMEZONE:Pacific/Auckland
BEGIN:VEVENT
SUMMARY:March Hare Run
DTSTART;VALUE=DATE-TIME:20090228T213000Z
DTEND;VALUE=DATE-TIME:20090301T030000Z
DTSTAMP;VALUE=DATE-TIME:20260425T011008Z
UID:85fcf9b5de2db697c429ea16f211f02b
CREATED;VALUE=DATE-TIME:20090211T230010Z
DESCRIPTION:An opportunity to get out in our classic cars for a blast in t
 he fresh air (hare?)
LAST-MODIFIED;VALUE=DATE-TIME:20090211T232233Z
LOCATION:Christchurch
URL:https://www.cmsnz.org.nz/events/march-hare-run
END:VEVENT
END:VCALENDAR
