BEGIN:VCALENDAR
VERSION:2.0
PRODID:-//Plone.org//NONSGML plone.app.event//EN
X-WR-TIMEZONE:Pacific/Auckland
BEGIN:VEVENT
SUMMARY:"Let's Quit Christchurch for Show Weekend" Weekend
DTSTART;VALUE=DATE-TIME:20071116T021000Z
DTEND;VALUE=DATE-TIME:20071118T021000Z
DTSTAMP;VALUE=DATE-TIME:20260425T045131Z
UID:f64769c7cb4a726338e9b0c5b2636dce
CREATED;VALUE=DATE-TIME:20070814T031110Z
DESCRIPTION:For those of you that want to get away from the madness of Chr
 istchurch Show Weekend and exercise your classic car's lungs.  Plus the bo
 nus of attending the Geraldine Arts & Plants Festival.
LAST-MODIFIED;VALUE=DATE-TIME:20080124T010427Z
LOCATION:Geraldine
URL:https://www.cmsnz.org.nz/events/lets-quit-christchurch-for-show-weeken
 d-weekend
END:VEVENT
END:VCALENDAR
