BEGIN:VCALENDAR
VERSION:2.0
PRODID:-//Plone.org//NONSGML plone.app.event//EN
X-WR-TIMEZONE:Pacific/Auckland
BEGIN:VEVENT
SUMMARY:Kustom Car Club Celebrating 50 Years
DTSTART;VALUE=DATE-TIME:20131024T110000Z
DTEND;VALUE=DATE-TIME:20131027T110000Z
DTSTAMP;VALUE=DATE-TIME:20260425T081853Z
UID:7180c4e13e6b439fb7630e7a07ca9b00
CONTACT:03 352 0532
CREATED;VALUE=DATE-TIME:20130827T044055Z
DESCRIPTION:This is not a CMSNZ event
LAST-MODIFIED;VALUE=DATE-TIME:20130827T045019Z
LOCATION:McLeans Island\, Christchurch
URL:https://www.cmsnz.org.nz/events/kustom-car-club-celebrating-50-years
END:VEVENT
END:VCALENDAR
