BEGIN:VCALENDAR
VERSION:2.0
PRODID:-//Plone.org//NONSGML plone.app.event//EN
X-WR-TIMEZONE:Pacific/Auckland
BEGIN:VEVENT
SUMMARY:Kaikoura Weekender
DTSTART;VALUE=DATE-TIME:20070511T050000Z
DTEND;VALUE=DATE-TIME:20070513T000000Z
DTSTAMP;VALUE=DATE-TIME:20260425T011301Z
UID:d036101214bcc33d8a53d6a5a4c2d9a3
CREATED;VALUE=DATE-TIME:20070410T235637Z
DESCRIPTION:This  is a casual weekend away in our classic cars.  There wil
 l be tour notes of some form but it is not a formal tour like the Alpine.
LAST-MODIFIED;VALUE=DATE-TIME:20070530T225744Z
LOCATION:Kaikoura
URL:https://www.cmsnz.org.nz/events/kaikoura-weekender
END:VEVENT
END:VCALENDAR
