BEGIN:VCALENDAR
VERSION:2.0
PRODID:-//Plone.org//NONSGML plone.app.event//EN
X-WR-TIMEZONE:Pacific/Auckland
BEGIN:VEVENT
SUMMARY:Kaikoura Weekender 2013
DTSTART;VALUE=DATE-TIME:20130906T060000Z
DTEND;VALUE=DATE-TIME:20130908T040000Z
DTSTAMP;VALUE=DATE-TIME:20260425T030534Z
UID:d3cc6ca5847842238dfabd079583a168
CATEGORIES:Weekend event
CONTACT:Sonja & Peter Greenhill\, spgreenhill@xtra.co.nz
CREATED;VALUE=DATE-TIME:20130627T230213Z
DESCRIPTION:The Classic Motoring Society of NZ is joining up with the Nels
 on Classic Motoring Society for a weekend of hi-jinks based in Kaikoura.
LAST-MODIFIED;VALUE=DATE-TIME:20130827T035602Z
LOCATION:Kaikoura
URL:https://www.cmsnz.org.nz/events/kaikoura-weekender-2013
END:VEVENT
END:VCALENDAR
