BEGIN:VCALENDAR
VERSION:2.0
PRODID:-//Plone.org//NONSGML plone.app.event//EN
X-WR-TIMEZONE:Pacific/Auckland
BEGIN:VEVENT
SUMMARY:Kaikoura Weekend 2011
DTSTART;VALUE=DATE-TIME:20110218T040000Z
DTEND;VALUE=DATE-TIME:20110220T040000Z
DTSTAMP;VALUE=DATE-TIME:20260425T043319Z
UID:418507178796ba9cb347903f6ae1396b
CATEGORIES:Weekend event
CREATED;VALUE=DATE-TIME:20110211T013613Z
DESCRIPTION:We're trying to overwhelm Kaikoura with classic cars! Run in c
 onjunction with the Classic Motoring Society of Nelson.
LAST-MODIFIED;VALUE=DATE-TIME:20110211T013627Z
LOCATION:Kaikoura
URL:https://www.cmsnz.org.nz/events/kaikoura-weekend-2011
END:VEVENT
END:VCALENDAR
