BEGIN:VCALENDAR
VERSION:2.0
PRODID:-//Plone.org//NONSGML plone.app.event//EN
X-WR-TIMEZONE:Pacific/Auckland
BEGIN:VEVENT
SUMMARY:June Jive
DTSTART;VALUE=DATE-TIME:20120602T220000Z
DTEND;VALUE=DATE-TIME:20120603T040000Z
DTSTAMP;VALUE=DATE-TIME:20260425T025405Z
UID:ff691c0d7fa34b9aad8bd130b5f99d09
CATEGORIES:Monthly Run
CONTACT:Julian Barrett\, jkbarrett@clear.net.nz
CREATED;VALUE=DATE-TIME:20120321T050451Z
DESCRIPTION:Classic Motoring Society's regular monthly run on the first Su
 nday of the month\, which happens to be Queen's Birthday Weekend this year
 !
LAST-MODIFIED;VALUE=DATE-TIME:20120530T013317Z
LOCATION:Christchurch
URL:https://www.cmsnz.org.nz/events/june-jive
END:VEVENT
END:VCALENDAR
