BEGIN:VCALENDAR
VERSION:2.0
PRODID:-//Plone.org//NONSGML plone.app.event//EN
X-WR-TIMEZONE:Pacific/Auckland
BEGIN:VEVENT
SUMMARY:June Jaunt
DTSTART;VALUE=DATE-TIME:20090606T223000Z
DTEND;VALUE=DATE-TIME:20090607T030000Z
DTSTAMP;VALUE=DATE-TIME:20260425T025612Z
UID:816fbd257901554c39a5467efe005d95
CONTACT:Mel Peters\, 337 4144\, petersmg@ihug.co.nz
CREATED;VALUE=DATE-TIME:20090428T224823Z
DESCRIPTION:This is a bonus run!
LAST-MODIFIED;VALUE=DATE-TIME:20090428T224853Z
LOCATION:Christchurch
URL:https://www.cmsnz.org.nz/events/june-jaunt
END:VEVENT
END:VCALENDAR
