BEGIN:VCALENDAR
VERSION:2.0
PRODID:-//Plone.org//NONSGML plone.app.event//EN
X-WR-TIMEZONE:Pacific/Auckland
BEGIN:VEVENT
SUMMARY:June Jaunt 2016
DTSTART;VALUE=DATE-TIME:20160604T220000Z
DTEND;VALUE=DATE-TIME:20160605T040000Z
DTSTAMP;VALUE=DATE-TIME:20260425T005114Z
UID:f9c2e188bddc4b0bb2d5196f3586f6a0
CATEGORIES:Monthly Run
CONTACT:Mel & Gill Peters\, classicmotoringsocietynzinc@gmail.com
CREATED;VALUE=DATE-TIME:20160324T225539Z
DESCRIPTION:First Sunday of the month run from The Classic Motoring Societ
 y
LAST-MODIFIED;VALUE=DATE-TIME:20160429T083127Z
LOCATION:Christchurch
URL:https://www.cmsnz.org.nz/events/june-jaunt-2016
END:VEVENT
END:VCALENDAR
