BEGIN:VCALENDAR
VERSION:2.0
PRODID:-//Plone.org//NONSGML plone.app.event//EN
X-WR-TIMEZONE:Pacific/Auckland
BEGIN:VEVENT
SUMMARY:Jumping July 2011
DTSTART;VALUE=DATE-TIME:20110702T223000Z
DTEND;VALUE=DATE-TIME:20110703T040000Z
DTSTAMP;VALUE=DATE-TIME:20260425T025422Z
UID:ba0b6215733ebb4f9cfa9fc49079663f
CATEGORIES:Monthly Run
CONTACT:Mel & Gill Peters\, 03-337 4144\, petersmg@ihug.co.nz
CREATED;VALUE=DATE-TIME:20110508T230916Z
DESCRIPTION:Keeping with the theme of alliteration and moving ground pheno
 menon\, we're up for a lively Classic Motoring Society monthly run!
LAST-MODIFIED;VALUE=DATE-TIME:20110508T231011Z
LOCATION:Christchurch
URL:https://www.cmsnz.org.nz/events/jumping-july-2011
END:VEVENT
END:VCALENDAR
