BEGIN:VCALENDAR
VERSION:2.0
PRODID:-//Plone.org//NONSGML plone.app.event//EN
X-WR-TIMEZONE:Pacific/Auckland
BEGIN:VEVENT
SUMMARY:Jumping into July 2014
DTSTART;VALUE=DATE-TIME:20140705T223000Z
DTEND;VALUE=DATE-TIME:20140706T040000Z
DTSTAMP;VALUE=DATE-TIME:20260425T011340Z
UID:ad19413eb16d4d26b8a0c2b89e9c8b18
CONTACT:Mel & Gill Peters\, 03 337 4144\, petersmg@ihug.co.nz
CREATED;VALUE=DATE-TIME:20140426T100014Z
DESCRIPTION:The Classic Motoring Society's regular\, first Sunday of the m
 onth\, run. This month has a slightly different flavour as it includes the
  AGM.
LAST-MODIFIED;VALUE=DATE-TIME:20140525T223839Z
LOCATION:Christchurch
URL:https://www.cmsnz.org.nz/events/jumping-into-july-2014
END:VEVENT
END:VCALENDAR
