BEGIN:VCALENDAR
VERSION:2.0
PRODID:-//Plone.org//NONSGML plone.app.event//EN
X-WR-TIMEZONE:Pacific/Auckland
BEGIN:VEVENT
SUMMARY:July Junket - a driver's delight
DTSTART;VALUE=DATE-TIME:20120630T223000Z
DTEND;VALUE=DATE-TIME:20120701T030000Z
DTSTAMP;VALUE=DATE-TIME:20260425T025531Z
UID:22428e219f0f4006b600a7c396c7f4a5
CATEGORIES:Monthly Run
CREATED;VALUE=DATE-TIME:20120321T051011Z
DESCRIPTION:Classic Motoring Society's regular monthly run on the first Su
 nday of the month.
LAST-MODIFIED;VALUE=DATE-TIME:20120625T022819Z
LOCATION:Christchurch
URL:https://www.cmsnz.org.nz/events/july-junket
END:VEVENT
END:VCALENDAR
