BEGIN:VCALENDAR
VERSION:2.0
PRODID:-//Plone.org//NONSGML plone.app.event//EN
X-WR-TIMEZONE:Pacific/Auckland
BEGIN:VEVENT
SUMMARY:July 2013 Gold Card Cruisers
DTSTART;VALUE=DATE-TIME:20130717T223000Z
DTEND;VALUE=DATE-TIME:20130718T030000Z
DTSTAMP;VALUE=DATE-TIME:20260425T030812Z
UID:db8748a89e624e34b8fad0fe46c955d3
CATEGORIES:Gold Card Cruisers
CONTACT:Mel Peters\, 03 337 4144\, petersmg@ihug.co.nz
CREATED;VALUE=DATE-TIME:20130627T225038Z
DESCRIPTION:Mid-week\, regular monthly run from the Classic Motoring Socie
 ty of NZ
LAST-MODIFIED;VALUE=DATE-TIME:20130627T225446Z
LOCATION:Canterbury
URL:https://www.cmsnz.org.nz/events/july-2013-gold-card-cruise
END:VEVENT
END:VCALENDAR
