BEGIN:VCALENDAR
VERSION:2.0
PRODID:-//Plone.org//NONSGML plone.app.event//EN
X-WR-TIMEZONE:Pacific/Auckland
BEGIN:VEVENT
SUMMARY:Jubilant June 2013
DTSTART;VALUE=DATE-TIME:20130601T223000Z
DTEND;VALUE=DATE-TIME:20130602T040000Z
DTSTAMP;VALUE=DATE-TIME:20260425T060952Z
UID:df3d69930daf42fda0ddd4a5ad328429
CATEGORIES:Monthly Run
CREATED;VALUE=DATE-TIME:20130401T064327Z
DESCRIPTION:A right royal occasion for the CMSNZ's regular monthly run - i
 ts Queen's Birthday weekend
LAST-MODIFIED;VALUE=DATE-TIME:20130401T072154Z
LOCATION:Christchurch
URL:https://www.cmsnz.org.nz/events/jubilant-june-2013
END:VEVENT
END:VCALENDAR
