BEGIN:VCALENDAR
VERSION:2.0
PRODID:-//Plone.org//NONSGML plone.app.event//EN
X-WR-TIMEZONE:Pacific/Auckland
BEGIN:VEVENT
SUMMARY:Jolly Good Fun in July 2016
DTSTART;VALUE=DATE-TIME:20160702T220000Z
DTEND;VALUE=DATE-TIME:20160703T040000Z
DTSTAMP;VALUE=DATE-TIME:20260425T045016Z
UID:5134154a7afa49de9edc89ebc179b589
CATEGORIES:Monthly Run
CONTACT:Gill Peters\, 021 216 0186\, classicmotoringsocietynzinc@gmail.com
CREATED;VALUE=DATE-TIME:20160324T230115Z
DESCRIPTION:CMSNZ's regular\, first Sunday of the month\, run followed by 
 our AGM
LAST-MODIFIED;VALUE=DATE-TIME:20160610T031142Z
LOCATION:Christchurch
URL:https://www.cmsnz.org.nz/events/jolly-good-fun-in-july-2016
END:VEVENT
END:VCALENDAR
