BEGIN:VCALENDAR
VERSION:2.0
PRODID:-//Plone.org//NONSGML plone.app.event//EN
X-WR-TIMEZONE:Pacific/Auckland
BEGIN:VEVENT
SUMMARY:Jittery June 2011
DTSTART;VALUE=DATE-TIME:20110604T223000Z
DTEND;VALUE=DATE-TIME:20110605T040000Z
DTSTAMP;VALUE=DATE-TIME:20260425T025846Z
UID:d30b93734a055a522639f286f8a413c6
CATEGORIES:Monthly Run
CONTACT:Mel & Gill Peters\, 03-337 4144\, petersmg@ihug.co.nz
CREATED;VALUE=DATE-TIME:20110508T230100Z
DESCRIPTION:Want to get over the jitters! Come out for a relaxing run in y
 our classic car with the Classic Motoring Society.
LAST-MODIFIED;VALUE=DATE-TIME:20110508T230130Z
LOCATION:Christchurch
URL:https://www.cmsnz.org.nz/events/jittery-june-2011
END:VEVENT
END:VCALENDAR
