BEGIN:VCALENDAR
VERSION:2.0
PRODID:-//Plone.org//NONSGML plone.app.event//EN
X-WR-TIMEZONE:Pacific/Auckland
BEGIN:VEVENT
SUMMARY:January Jaunt 2013
DTSTART;VALUE=DATE-TIME:20130105T213000Z
DTEND;VALUE=DATE-TIME:20130106T030000Z
DTSTAMP;VALUE=DATE-TIME:20260425T030436Z
UID:f1f8fcf9e0794fe1adb2f57ff316ebc7
CATEGORIES:Monthly Run
CONTACT:Julian Barrett\, jkbarrett@clear.net.nz
CREATED;VALUE=DATE-TIME:20121205T002510Z
DESCRIPTION:The Classic Motoring Society of New Zealand is kicking off the
  new year with a day run on the first Sunday of the year!
LAST-MODIFIED;VALUE=DATE-TIME:20121205T002651Z
LOCATION:Christchurch
URL:https://www.cmsnz.org.nz/events/january-jaunt-2013
END:VEVENT
END:VCALENDAR
