BEGIN:VCALENDAR
VERSION:2.0
PRODID:-//Plone.org//NONSGML plone.app.event//EN
X-WR-TIMEZONE:Pacific/Auckland
BEGIN:VEVENT
SUMMARY:Ides of March 2013
DTSTART;VALUE=DATE-TIME:20130309T213000Z
DTEND;VALUE=DATE-TIME:20130310T030000Z
DTSTAMP;VALUE=DATE-TIME:20260425T011624Z
UID:880baaa4be8741469d401abc68afa71f
CATEGORIES:Monthly Run
CONTACT:Mel Peters\, 03 337 4144\, petersmg@ihug.co.nz
CREATED;VALUE=DATE-TIME:20130124T034025Z
DESCRIPTION:Ides of March 2013 is one of our monthly day runs for the Clas
 sic Motoring Society. Please note that we've moved this run back 1 week so
  we can go on Twin Rivers.
LAST-MODIFIED;VALUE=DATE-TIME:20130226T223756Z
LOCATION:Christchurch
URL:https://www.cmsnz.org.nz/events/ides-of-march-2013
END:VEVENT
END:VCALENDAR
