BEGIN:VCALENDAR
VERSION:2.0
PRODID:-//Plone.org//NONSGML plone.app.event//EN
X-WR-TIMEZONE:Pacific/Auckland
BEGIN:VEVENT
SUMMARY:Hanmer Weekend 2009
DTSTART;VALUE=DATE-TIME:20091002T040000Z
DTEND;VALUE=DATE-TIME:20091004T040000Z
DTSTAMP;VALUE=DATE-TIME:20260425T061023Z
UID:102aa57733713b187bab456c00d96f9b
CONTACT:info@cmsnz.org.nz
CREATED;VALUE=DATE-TIME:20090521T033828Z
DESCRIPTION:Time to welcome the warmer months and a break from home - a go
 od excuse for a weekend at Hamner in your classic car!
LAST-MODIFIED;VALUE=DATE-TIME:20090521T033844Z
LOCATION:Hanmer Springs
URL:https://www.cmsnz.org.nz/events/hanmer-weekend-2009
END:VEVENT
END:VCALENDAR
