BEGIN:VCALENDAR
VERSION:2.0
PRODID:-//Plone.org//NONSGML plone.app.event//EN
X-WR-TIMEZONE:Pacific/Auckland
BEGIN:VEVENT
SUMMARY:Gold Cruisers June Jaunt 2014
DTSTART;VALUE=DATE-TIME:20140611T223000Z
DTEND;VALUE=DATE-TIME:20140612T040000Z
DTSTAMP;VALUE=DATE-TIME:20260425T063015Z
UID:a699a633d8834ed3b55780abdcc9138c
CATEGORIES:Gold Card Cruisers
CREATED;VALUE=DATE-TIME:20140426T095014Z
DESCRIPTION:Regular\, mid-month\, mid-week outing by the Classic Motoring 
 Society
LAST-MODIFIED;VALUE=DATE-TIME:20140525T223053Z
LOCATION:Christchurch
URL:https://www.cmsnz.org.nz/events/gold-cruisers-june-jaunt-2014
END:VEVENT
END:VCALENDAR
