BEGIN:VCALENDAR
VERSION:2.0
PRODID:-//Plone.org//NONSGML plone.app.event//EN
X-WR-TIMEZONE:Pacific/Auckland
BEGIN:VEVENT
SUMMARY:Gold Card Cruisers
DTSTART;TZID=Pacific/Auckland;VALUE=DATE-TIME:20170413T090000
DTSTAMP;VALUE=DATE-TIME:20260425T011543Z
UID:93184d1e37814bb99f841c052f4df56c
RRULE:FREQ=MONTHLY;COUNT=2;BYDAY=+3TH
RDATE;TZID=Pacific/Auckland:20170518T000000
EXDATE;TZID=Pacific/Auckland:20170320T000000,20170420T000000
ATTENDEE;CN="Everyone welcome";ROLE=REQ-PARTICIPANT:Everyone welcome
CREATED;VALUE=DATE-TIME:20170320T000040Z
LAST-MODIFIED;VALUE=DATE-TIME:20170320T001221Z
URL:https://www.cmsnz.org.nz/events/gold-card-cruisers
END:VEVENT
BEGIN:VTIMEZONE
TZID:Pacific/Auckland
X-LIC-LOCATION:Pacific/Auckland
BEGIN:STANDARD
DTSTART;VALUE=DATE-TIME:20170402T020000
TZNAME:NZST
TZOFFSETFROM:+1300
TZOFFSETTO:+1200
END:STANDARD
END:VTIMEZONE
END:VCALENDAR
