BEGIN:VCALENDAR
VERSION:2.0
PRODID:-//Plone.org//NONSGML plone.app.event//EN
X-WR-TIMEZONE:Pacific/Auckland
BEGIN:VEVENT
SUMMARY:Gold Card Cruisers September 2016
DTSTART;VALUE=DATE-TIME:20160914T220000Z
DTEND;VALUE=DATE-TIME:20160915T030000Z
DTSTAMP;VALUE=DATE-TIME:20260425T005503Z
UID:2c41f9e3be864173b0f35e134809f4de
CATEGORIES:Gold Card Cruisers
CONTACT:Gill Peters\, 021 216 0186\, classicmotoringsocietynzinc@gmail.com
CREATED;VALUE=DATE-TIME:20160802T001022Z
DESCRIPTION:Our usual mid-week\, mid-month run
LAST-MODIFIED;VALUE=DATE-TIME:20160802T001031Z
LOCATION:Christchurch
URL:https://www.cmsnz.org.nz/events/gold-card-cruisers-september-2016
END:VEVENT
END:VCALENDAR
