BEGIN:VCALENDAR
VERSION:2.0
PRODID:-//Plone.org//NONSGML plone.app.event//EN
X-WR-TIMEZONE:Pacific/Auckland
BEGIN:VEVENT
SUMMARY:Gold Card Cruisers Nov Outing
DTSTART;VALUE=DATE-TIME:20131113T213000Z
DTEND;VALUE=DATE-TIME:20131114T020000Z
DTSTAMP;VALUE=DATE-TIME:20260425T005514Z
UID:0740167005ce4a2f946acddb2be6f84d
CATEGORIES:Gold Card Cruisers
CONTACT:John & Merilyn Gallagher\, 0274 268 052\, thegallaghers@clear.net.
 nz
CREATED;VALUE=DATE-TIME:20131024T214815Z
DESCRIPTION:Regular\, mid week\, monthly day outing from the CMSNZ
LAST-MODIFIED;VALUE=DATE-TIME:20131024T221352Z
LOCATION:Belfast
URL:https://www.cmsnz.org.nz/events/gold-card-cruisers-nov-outing
END:VEVENT
END:VCALENDAR
