BEGIN:VCALENDAR
VERSION:2.0
PRODID:-//Plone.org//NONSGML plone.app.event//EN
X-WR-TIMEZONE:Pacific/Auckland
BEGIN:VEVENT
SUMMARY:Gold Card Cruisers May 2016
DTSTART;VALUE=DATE-TIME:20160511T223000Z
DTEND;VALUE=DATE-TIME:20160512T033000Z
DTSTAMP;VALUE=DATE-TIME:20260425T030632Z
UID:d04f645fb51f4ae88ddc8e3fd2917c05
CATEGORIES:Gold Card Cruisers
CONTACT:Kit Peverill\, classicmotoringsocietynzinc@gmail.com
CREATED;VALUE=DATE-TIME:20160328T233637Z
DESCRIPTION:Mid-month\, mid-week\, regular run with The Classic Motoring S
 ociety. Come and join us
LAST-MODIFIED;VALUE=DATE-TIME:20160429T083002Z
LOCATION:Ashburton
URL:https://www.cmsnz.org.nz/events/gold-card-cruisers-may-2016
END:VEVENT
END:VCALENDAR
