BEGIN:VCALENDAR
VERSION:2.0
PRODID:-//Plone.org//NONSGML plone.app.event//EN
X-WR-TIMEZONE:Pacific/Auckland
BEGIN:VEVENT
SUMMARY:Gold Card Cruisers June 2016
DTSTART;VALUE=DATE-TIME:20160615T223000Z
DTEND;VALUE=DATE-TIME:20160616T040000Z
DTSTAMP;VALUE=DATE-TIME:20260425T005540Z
UID:94414a74c3f641359c593213eae239d6
CONTACT:Gill Peters\, 021 216 0186\, classicmotoringsocietynzinc@gmail.com
CREATED;VALUE=DATE-TIME:20160429T083350Z
DESCRIPTION:Mid-month\, mid-week\, regular monthly run from CMSNZ
LAST-MODIFIED;VALUE=DATE-TIME:20160610T025430Z
LOCATION:Christchurch
URL:https://www.cmsnz.org.nz/events/gold-card-cruisers-june-2016
END:VEVENT
END:VCALENDAR
