BEGIN:VCALENDAR
VERSION:2.0
PRODID:-//Plone.org//NONSGML plone.app.event//EN
X-WR-TIMEZONE:Pacific/Auckland
BEGIN:VEVENT
SUMMARY:Gold Card Cruisers January 2015
DTSTART;VALUE=DATE-TIME:20150114T213000Z
DTEND;VALUE=DATE-TIME:20150115T030000Z
DTSTAMP;VALUE=DATE-TIME:20260425T045327Z
UID:7e1d67ca9acd470c93d25fde3af92515
CREATED;VALUE=DATE-TIME:20141130T205235Z
DESCRIPTION:Not any details at this stage but this is the CMSNZ's regular\
 , mid-month outing
LAST-MODIFIED;VALUE=DATE-TIME:20141130T205254Z
LOCATION:Christchurch start
URL:https://www.cmsnz.org.nz/events/gold-card-cruisers-january-2015
END:VEVENT
END:VCALENDAR
