BEGIN:VCALENDAR
VERSION:2.0
PRODID:-//Plone.org//NONSGML plone.app.event//EN
X-WR-TIMEZONE:Pacific/Auckland
BEGIN:VEVENT
SUMMARY:Gold Card Cruisers February Run 2014
DTSTART;VALUE=DATE-TIME:20140212T213000Z
DTEND;VALUE=DATE-TIME:20140213T030000Z
DTSTAMP;VALUE=DATE-TIME:20260425T063348Z
UID:2201c6834f7d427a99727cad7b8df984
CATEGORIES:Gold Card Cruisers
CREATED;VALUE=DATE-TIME:20140109T085659Z
DESCRIPTION:Regular Thursday monthly run with the Classic Motoring Society
LAST-MODIFIED;VALUE=DATE-TIME:20140109T085735Z
LOCATION:Christchurch
URL:https://www.cmsnz.org.nz/events/gold-card-cruisers-february-run-2014
END:VEVENT
END:VCALENDAR
